BEGIN:VCALENDAR
VERSION:2.0
PRODID:-//Parco Oasi Diecimare - ECPv6.15.20//NONSGML v1.0//EN
CALSCALE:GREGORIAN
METHOD:PUBLISH
X-WR-CALNAME:Parco Oasi Diecimare
X-ORIGINAL-URL:https://oasidiecimare.it
X-WR-CALDESC:Eventi per Parco Oasi Diecimare
REFRESH-INTERVAL;VALUE=DURATION:PT1H
X-Robots-Tag:noindex
X-PUBLISHED-TTL:PT1H
BEGIN:VTIMEZONE
TZID:UTC
BEGIN:STANDARD
TZOFFSETFROM:+0000
TZOFFSETTO:+0000
TZNAME:UTC
DTSTART:20250101T000000
END:STANDARD
END:VTIMEZONE
BEGIN:VEVENT
DTSTART;TZID=UTC:20260110T103000
DTEND;TZID=UTC:20260110T130000
DTSTAMP:20260424T235942
CREATED:20260107T191012Z
LAST-MODIFIED:20260107T191012Z
UID:1121-1768041000-1768050000@oasidiecimare.it
SUMMARY:Yoga - In equilibrio con la Natura
DESCRIPTION:Concediti un tempo prezioso per te\, lontano dal rumore e dalla frenesia quotidiana.All’Oasi Diecimare ti aspetta un’esperienza di yoga all’aria aperta\, pensata per rallentare\, ascoltare il respiro e ritrovare una profonda connessione tra corpo\, mente e ambiente naturale. \n🌿 Immersi nel verde\, il movimento si fa consapevole\, il respiro guida le posture e il silenzio del bosco diventa parte integrante della pratica. Un’occasione per ritrovare equilibrio\, energia e centratura\, lasciandosi sostenere dalla forza della natura. \n📅 Sabato 10 gennaio🕥 Ore 10:30📍 Oasi Diecimare🧘‍♀️ A cura di Emilia Tosto\, insegnante di yoga integrale \n🧘‍♂️ Porta il tuo tappetino e lasciati guidare in un’esperienza rigenerante e accessibile a tutti. \n📞 Info & prenotazioniCarmela: 380 659 9775Emilia: 320 405 2431🌐 www.oasidiecimare.it
URL:https://oasidiecimare.it/eventi-del-centro-visite/yoga-in-equilibrio-con-la-natura/
LOCATION:Centro Visite Parco Oasi Diecimare\, Località Breccelle - 84013 Cava de' Tirreni (SA)\, Cava de' Tirreni\, Salerno\, 84013\, Italy
CATEGORIES:Eventi del Centro Visite
ATTACH;FMTTYPE=image/jpeg:https://oasidiecimare.it/wp-content/uploads/2026/01/yoga_07_01_2026.jpg
END:VEVENT
END:VCALENDAR