BEGIN:VCALENDAR
VERSION:2.0
PRODID:-//Parco Oasi Diecimare - ECPv6.15.20//NONSGML v1.0//EN
CALSCALE:GREGORIAN
METHOD:PUBLISH
X-WR-CALNAME:Parco Oasi Diecimare
X-ORIGINAL-URL:https://oasidiecimare.it
X-WR-CALDESC:Eventi per Parco Oasi Diecimare
REFRESH-INTERVAL;VALUE=DURATION:PT1H
X-Robots-Tag:noindex
X-PUBLISHED-TTL:PT1H
BEGIN:VTIMEZONE
TZID:Europe/Paris
BEGIN:DAYLIGHT
TZOFFSETFROM:+0100
TZOFFSETTO:+0200
TZNAME:CEST
DTSTART:20240331T010000
END:DAYLIGHT
BEGIN:STANDARD
TZOFFSETFROM:+0200
TZOFFSETTO:+0100
TZNAME:CET
DTSTART:20241027T010000
END:STANDARD
BEGIN:DAYLIGHT
TZOFFSETFROM:+0100
TZOFFSETTO:+0200
TZNAME:CEST
DTSTART:20250330T010000
END:DAYLIGHT
BEGIN:STANDARD
TZOFFSETFROM:+0200
TZOFFSETTO:+0100
TZNAME:CET
DTSTART:20251026T010000
END:STANDARD
BEGIN:DAYLIGHT
TZOFFSETFROM:+0100
TZOFFSETTO:+0200
TZNAME:CEST
DTSTART:20260329T010000
END:DAYLIGHT
BEGIN:STANDARD
TZOFFSETFROM:+0200
TZOFFSETTO:+0100
TZNAME:CET
DTSTART:20261025T010000
END:STANDARD
END:VTIMEZONE
BEGIN:VEVENT
DTSTART;VALUE=DATE:20251109
DTEND;VALUE=DATE:20251110
DTSTAMP:20260425T034745
CREATED:20251106T072953Z
LAST-MODIFIED:20251107T134954Z
UID:620-1762646400-1762732799@oasidiecimare.it
SUMMARY:Escursione a cura di Paolo Polacco\, guida esperta FIPTES
DESCRIPTION:🥾 Unisciti a noi per un’escursione guidata dalla mano esperta di Paolo Polacco (guida FIPTES): un passo dopo l’altro per scoprire il bosco in mattinata\, respirare aria pulita e vivere la natura con occhi nuovi. \nNella giornata Domenica 9 Novembre sono previste due escursioni. \nMattina – “Escursione a Vetta di Monte Caruso e discesa dal Varco Santa Lucia”\nTipologia: Escursione per escursionisti esperti (difficoltà E)\nPartenza: ore 8:30 dal Centro Visite\nDistanza: circa 5\,5 km\nDislivello: circa +400 m / -400 m\nTempo di percorrenza: circa 4 ore e 30 minuti\nQuota massima: Vetta di Monte Caruso\nEquipaggiamento consigliato: scarponcini da trekking\, zaino leggero\, abbigliamento tecnico a strati\, cappello\, crema solare\, almeno 1 litro d’acqua e uno snack energetico.\nDescrizione del percorso\nL’escursione parte dal centro abitato alle ore 08:30 e si sviluppa lungo un sentiero panoramico che conduce alla vetta di Monte Caruso\, da cui si gode una vista mozzafiato sui rilievi circostanti e sulle vallate sottostanti. Il percorso attraversa ambienti naturali di grande fascino\, tra boschi misti\, radure e tratti rocciosi tipici dell’area.\nLa discesa avviene dal Varco Santa Lucia\, lungo un sentiero più dolce che riporta gradualmente verso valle.\nSi tratta di un itinerario adatto a escursionisti con un minimo di allenamento e dimestichezza con terreni irregolari. Il passo sarà regolare\, con soste panoramiche e momenti dedicati alla conoscenza dell’ambiente naturale. \nPomeriggio – Passeggiata lungo “l’Anello dei Due Golfi”\nTipologia: Passeggiata per famiglie e principianti (difficoltà T)\nPartenza: ore 14:30 dal Centro Visite\nDistanza: circa 3 km\nDurata complessiva: circa 2 ore\nEquipaggiamento consigliato: scarpe comode da cammino\, abbigliamento leggero\, cappello\, acqua\, macchina fotografica.\nDescrizione del percorso\nNel pomeriggio\, a partire dalle ore 14:30\, si propone una piacevole passeggiata adatta a tutti\, ideale anche per famiglie con bambini.\nIl “Sentiero ad Anello dei Due Golfi” offre panorami incantevoli che spaziano su entrambi i versanti costieri\, permettendo di ammirare i contrasti tra montagna e mare.\nIl percorso\, breve e con lievi dislivelli\, si snoda tra sentieri sterrati\, punti panoramici e scorci naturalistici di grande bellezza.\nIl rientro è previsto al tramonto\, un momento suggestivo in cui i colori del cielo e del paesaggio renderanno l’esperienza indimenticabile. \nE’ previsto menu degustazione. \nMenu degustazione dell’evento\n Info e prenotazioni: +39 380 659 9775\n www.oasidiecimare.it \n 
URL:https://oasidiecimare.it/eventi-del-centro-visite/escursione-a-cura-di-paolo-polacco-guida-esperta-fiptes/
LOCATION:Centro Visite Parco Oasi Diecimare\, Località Breccelle - 84013 Cava de' Tirreni (SA)\, Cava de' Tirreni\, Salerno\, 84013\, Italy
CATEGORIES:Eventi del Centro Visite
ATTACH;FMTTYPE=image/jpeg:https://oasidiecimare.it/wp-content/uploads/2025/11/escursione.jpg
END:VEVENT
END:VCALENDAR