BEGIN:VCALENDAR
VERSION:2.0
PRODID:-//Parco Oasi Diecimare - ECPv6.15.20//NONSGML v1.0//EN
CALSCALE:GREGORIAN
METHOD:PUBLISH
X-ORIGINAL-URL:https://oasidiecimare.it
X-WR-CALDESC:Eventi per Parco Oasi Diecimare
REFRESH-INTERVAL;VALUE=DURATION:PT1H
X-Robots-Tag:noindex
X-PUBLISHED-TTL:PT1H
BEGIN:VTIMEZONE
TZID:Europe/Paris
BEGIN:DAYLIGHT
TZOFFSETFROM:+0100
TZOFFSETTO:+0200
TZNAME:CEST
DTSTART:20240331T010000
END:DAYLIGHT
BEGIN:STANDARD
TZOFFSETFROM:+0200
TZOFFSETTO:+0100
TZNAME:CET
DTSTART:20241027T010000
END:STANDARD
BEGIN:DAYLIGHT
TZOFFSETFROM:+0100
TZOFFSETTO:+0200
TZNAME:CEST
DTSTART:20250330T010000
END:DAYLIGHT
BEGIN:STANDARD
TZOFFSETFROM:+0200
TZOFFSETTO:+0100
TZNAME:CET
DTSTART:20251026T010000
END:STANDARD
BEGIN:DAYLIGHT
TZOFFSETFROM:+0100
TZOFFSETTO:+0200
TZNAME:CEST
DTSTART:20260329T010000
END:DAYLIGHT
BEGIN:STANDARD
TZOFFSETFROM:+0200
TZOFFSETTO:+0100
TZNAME:CET
DTSTART:20261025T010000
END:STANDARD
END:VTIMEZONE
BEGIN:VEVENT
DTSTART;TZID=Europe/Paris:20251129T083000
DTEND;TZID=Europe/Paris:20251129T170000
DTSTAMP:20260425T035039
CREATED:20251106T091451Z
LAST-MODIFIED:20251106T091451Z
UID:645-1764405000-1764435600@oasidiecimare.it
SUMMARY:Trekking sul Sentiero Italia a passo lento
DESCRIPTION:🚶‍♀️ Un cammino lento tra boschi e panorami\, per ascoltare il ritmo autentico della natura lungo un tratto del celebre Sentiero Italia\, che attraversa l’anima verde del nostro Paese\, tra paesaggi mozzafiato e silenzi che rigenerano. 🌄 \n📞 Info e prenotazioni: +39 380 659 9775\n🌐 www.oasidiecimare.it
URL:https://oasidiecimare.it/eventi-del-centro-visite/trekking-sul-sentiero-italia-a-passo-lento/
LOCATION:Centro Visite Parco Oasi Diecimare\, Località Breccelle - 84013 Cava de' Tirreni (SA)\, Cava de' Tirreni\, Salerno\, 84013\, Italy
CATEGORIES:Eventi del Centro Visite
ATTACH;FMTTYPE=image/webp:https://oasidiecimare.it/wp-content/uploads/2025/11/segnaletica-cai.webp
END:VEVENT
END:VCALENDAR