BEGIN:VCALENDAR
VERSION:2.0
PRODID:-//Parco Oasi Diecimare - ECPv6.15.20//NONSGML v1.0//EN
CALSCALE:GREGORIAN
METHOD:PUBLISH
X-WR-CALNAME:Parco Oasi Diecimare
X-ORIGINAL-URL:https://oasidiecimare.it
X-WR-CALDESC:Eventi per Parco Oasi Diecimare
REFRESH-INTERVAL;VALUE=DURATION:PT1H
X-Robots-Tag:noindex
X-PUBLISHED-TTL:PT1H
BEGIN:VTIMEZONE
TZID:UTC
BEGIN:STANDARD
TZOFFSETFROM:+0000
TZOFFSETTO:+0000
TZNAME:UTC
DTSTART:20240101T000000
END:STANDARD
END:VTIMEZONE
BEGIN:VEVENT
DTSTART;TZID=UTC:20251108T110000
DTEND;TZID=UTC:20251108T150000
DTSTAMP:20260424T213259
CREATED:20251106T072425Z
LAST-MODIFIED:20251107T135018Z
UID:617-1762599600-1762614000@oasidiecimare.it
SUMMARY:Passeggiata nel bosco e Laboratorio foliage
DESCRIPTION:Immergiti nei colori dell’autunno con una passeggiata tra i sentieri del bosco e un laboratorio creativo dedicato al foliage. 🍂Un’esperienza per osservare da vicino le meraviglie della natura e portare con te un piccolo frammento d’autunno. 🍁✨ \nE’ previsto menu degustazione. \nMenu degustazione dell’evento\n Info e prenotazioni: +39 380 659 9775\n www.oasidiecimare.it
URL:https://oasidiecimare.it/eventi-del-centro-visite/passeggiata-nel-bosco-e-laboratorio-foliage/
LOCATION:Centro Visite Parco Oasi Diecimare\, Località Breccelle - 84013 Cava de' Tirreni (SA)\, Cava de' Tirreni\, Salerno\, 84013\, Italy
CATEGORIES:Eventi del Centro Visite
ATTACH;FMTTYPE=image/jpeg:https://oasidiecimare.it/wp-content/uploads/2025/11/foliage.jpg
END:VEVENT
END:VCALENDAR