BEGIN:VCALENDAR
VERSION:2.0
PRODID:-//Parco Oasi Diecimare - ECPv6.15.20//NONSGML v1.0//EN
CALSCALE:GREGORIAN
METHOD:PUBLISH
X-ORIGINAL-URL:https://oasidiecimare.it
X-WR-CALDESC:Eventi per Parco Oasi Diecimare
REFRESH-INTERVAL;VALUE=DURATION:PT1H
X-Robots-Tag:noindex
X-PUBLISHED-TTL:PT1H
BEGIN:VTIMEZONE
TZID:UTC
BEGIN:STANDARD
TZOFFSETFROM:+0000
TZOFFSETTO:+0000
TZNAME:UTC
DTSTART:20240101T000000
END:STANDARD
END:VTIMEZONE
BEGIN:VTIMEZONE
TZID:Europe/Paris
BEGIN:DAYLIGHT
TZOFFSETFROM:+0100
TZOFFSETTO:+0200
TZNAME:CEST
DTSTART:20240331T010000
END:DAYLIGHT
BEGIN:STANDARD
TZOFFSETFROM:+0200
TZOFFSETTO:+0100
TZNAME:CET
DTSTART:20241027T010000
END:STANDARD
BEGIN:DAYLIGHT
TZOFFSETFROM:+0100
TZOFFSETTO:+0200
TZNAME:CEST
DTSTART:20250330T010000
END:DAYLIGHT
BEGIN:STANDARD
TZOFFSETFROM:+0200
TZOFFSETTO:+0100
TZNAME:CET
DTSTART:20251026T010000
END:STANDARD
BEGIN:DAYLIGHT
TZOFFSETFROM:+0100
TZOFFSETTO:+0200
TZNAME:CEST
DTSTART:20260329T010000
END:DAYLIGHT
BEGIN:STANDARD
TZOFFSETFROM:+0200
TZOFFSETTO:+0100
TZNAME:CET
DTSTART:20261025T010000
END:STANDARD
END:VTIMEZONE
BEGIN:VEVENT
DTSTART;TZID=UTC:20251115T110000
DTEND;TZID=UTC:20251115T160000
DTSTAMP:20260424T235825
CREATED:20251106T084038Z
LAST-MODIFIED:20251110T105709Z
UID:627-1763204400-1763222400@oasidiecimare.it
SUMMARY:Lettura animata “a sorpresa!”
DESCRIPTION:Lasciati trasportare da una lettura animata “a sorpresa” tra le voci del bosco e l’atmosfera d’autunno 🍂Un momento magico\, pensato per grandi e piccoli\, dove la fantasia prenderà vita tra gli alberi. ✨ \nprogramma 15 novembre 2025\n Info e prenotazioni: +39 380 659 9775\n www.oasidiecimare.it
URL:https://oasidiecimare.it/eventi-del-centro-visite/lettura-animata-a-sorpresa/
LOCATION:Centro Visite Parco Oasi Diecimare\, Località Breccelle - 84013 Cava de' Tirreni (SA)\, Cava de' Tirreni\, Salerno\, 84013\, Italy
CATEGORIES:Eventi del Centro Visite
ATTACH;FMTTYPE=image/jpeg:https://oasidiecimare.it/wp-content/uploads/2025/11/img_3505.jpg
END:VEVENT
BEGIN:VEVENT
DTSTART;TZID=Europe/Paris:20251116T110000
DTEND;TZID=Europe/Paris:20251116T130000
DTSTAMP:20260424T235825
CREATED:20251106T085049Z
LAST-MODIFIED:20251110T105801Z
UID:630-1763290800-1763298000@oasidiecimare.it
SUMMARY:Spettacolo teatrale nel bosco: “Cappuccetto rosso e quel bullo del lupo”
DESCRIPTION:🎭 Uno spettacolo teatrale nel bosco: “Cappuccetto rosso e quel bullo del lupo”\, a cura dell’artista Sergio Mari — risate\, natura e un pizzico di magia tra gli alberi. \nTi aspettiamo alle ore 11:00. \nProgramma 16 novembre 2025\n📞 Info e prenotazioni: +39 380 659 9775\n🌐 www.oasidiecimare.it
URL:https://oasidiecimare.it/eventi-del-centro-visite/spettacolo-teatrale-nel-bosco-cappuccetto-rosso-e-quel-bullo-del-lupo/
LOCATION:Centro Visite Parco Oasi Diecimare\, Località Breccelle - 84013 Cava de' Tirreni (SA)\, Cava de' Tirreni\, Salerno\, 84013\, Italy
CATEGORIES:Eventi del Centro Visite
ATTACH;FMTTYPE=image/jpeg:https://oasidiecimare.it/wp-content/uploads/2025/11/oasi-diecimare-teatro-cappuccetto-rosso-nel-bosco-e-il-lupo-bullo.jpg
END:VEVENT
BEGIN:VEVENT
DTSTART;TZID=UTC:20251122T103000
DTEND;TZID=UTC:20251122T133000
DTSTAMP:20260424T235825
CREATED:20251106T085552Z
LAST-MODIFIED:20251106T085552Z
UID:635-1763807400-1763818200@oasidiecimare.it
SUMMARY:Festa dell’albero con messa a dimora di alberature autoctone
DESCRIPTION:🌱 Festa dell’albero con messa a dimora di alberature autoctone – un gesto semplice per il futuro del bosco\, insieme alla nostra comunità. \n Info e prenotazioni: +39 380 659 9775\n www.oasidiecimare.it
URL:https://oasidiecimare.it/eventi-del-centro-visite/festa-dellalbero-con-messa-a-dimora-di-alberature-autoctone/
LOCATION:Centro Visite Parco Oasi Diecimare\, Località Breccelle - 84013 Cava de' Tirreni (SA)\, Cava de' Tirreni\, Salerno\, 84013\, Italy
CATEGORIES:Eventi del Centro Visite
ATTACH;FMTTYPE=image/jpeg:https://oasidiecimare.it/wp-content/uploads/2025/11/messa-a-dimora-alberatura.jpg
END:VEVENT
BEGIN:VEVENT
DTSTART;TZID=UTC:20251123T090000
DTEND;TZID=UTC:20251123T133000
DTSTAMP:20260424T235825
CREATED:20251106T090221Z
LAST-MODIFIED:20251106T090240Z
UID:638-1763888400-1763904600@oasidiecimare.it
SUMMARY:Breve passeggiata nel bosco "abbraccio il mio albero" e mindfulness
DESCRIPTION:🌲 Una breve passeggiata nel cuore del bosco per riconnettersi con la natura e con se stessi.Tra silenzi\, respiro e consapevolezza\, un momento di mindfulness guidato dalla Prof.ssa Di Lieto per ritrovare equilibrio e serenità interiore. ✨ \n📞 Info e prenotazioni: +39 380 659 9775\n🌐 www.oasidiecimare.it
URL:https://oasidiecimare.it/eventi-del-centro-visite/breve-passeggiata-nel-bosco-abbraccio-il-mio-albero-e-mindfulness/
LOCATION:Centro Visite Parco Oasi Diecimare\, Località Breccelle - 84013 Cava de' Tirreni (SA)\, Cava de' Tirreni\, Salerno\, 84013\, Italy
ATTACH;FMTTYPE=image/jpeg:https://oasidiecimare.it/wp-content/uploads/2025/11/escursione.jpg
END:VEVENT
BEGIN:VEVENT
DTSTART;TZID=UTC:20251129T110000
DTEND;TZID=UTC:20251129T143000
DTSTAMP:20260424T235825
CREATED:20251106T092204Z
LAST-MODIFIED:20251106T092204Z
UID:648-1764414000-1764426600@oasidiecimare.it
SUMMARY:Laboratorio creativo con Valeria Milione\, counselor e arteterapeuta
DESCRIPTION:Un incontro dedicato alla creatività e all’ascolto di sé\, guidato da Valeria Milione\, counselor e arteterapeuta.Tra colori\, emozioni e natura\, un laboratorio per esprimere liberamente ciò che le parole non sempre sanno dire. 🌿✨ \n📞 Info e prenotazioni: +39 380 659 9775\n🌐 www.oasidiecimare.it
URL:https://oasidiecimare.it/eventi-del-centro-visite/laboratorio-creativo-con-valeria-milione-counselor-e-arteterapeuta/
LOCATION:Centro Visite Parco Oasi Diecimare\, Località Breccelle - 84013 Cava de' Tirreni (SA)\, Cava de' Tirreni\, Salerno\, 84013\, Italy
CATEGORIES:Eventi del Centro Visite
ATTACH;FMTTYPE=image/png:https://oasidiecimare.it/wp-content/uploads/2025/11/ChatGPT-Image-6-nov-2025-10_20_46.png
END:VEVENT
BEGIN:VEVENT
DTSTART;VALUE=DATE:20251130
DTEND;VALUE=DATE:20251201
DTSTAMP:20260424T235825
CREATED:20251106T092511Z
LAST-MODIFIED:20251106T092511Z
UID:652-1764460800-1764547199@oasidiecimare.it
SUMMARY:Musiche\, suoni e colori della natura
DESCRIPTION:Un incontro dedicato all’ascolto profondo: le musiche e i suoni della natura si fondono in un’esperienza sensoriale unica. 🌿Tra fruscii\, melodie e colori del bosco\, lasciati guidare in un viaggio di armonia e connessione con l’ambiente che ci circonda. 🍁✨ \n📞 Info e prenotazioni: +39 380 659 9775\n🌐 www.oasidiecimare.it
URL:https://oasidiecimare.it/eventi-del-centro-visite/musiche-suoni-e-colori-della-natura/
LOCATION:Centro Visite Parco Oasi Diecimare\, Località Breccelle - 84013 Cava de' Tirreni (SA)\, Cava de' Tirreni\, Salerno\, 84013\, Italy
CATEGORIES:Eventi del Centro Visite
ATTACH;FMTTYPE=image/jpeg:https://oasidiecimare.it/wp-content/uploads/2025/04/farfalla-macaone.jpeg
END:VEVENT
END:VCALENDAR