BEGIN:VCALENDAR
VERSION:2.0
PRODID:-//Parco Oasi Diecimare - ECPv6.15.20//NONSGML v1.0//EN
CALSCALE:GREGORIAN
METHOD:PUBLISH
X-WR-CALNAME:Parco Oasi Diecimare
X-ORIGINAL-URL:https://oasidiecimare.it
X-WR-CALDESC:Eventi per Parco Oasi Diecimare
REFRESH-INTERVAL;VALUE=DURATION:PT1H
X-Robots-Tag:noindex
X-PUBLISHED-TTL:PT1H
BEGIN:VTIMEZONE
TZID:UTC
BEGIN:STANDARD
TZOFFSETFROM:+0000
TZOFFSETTO:+0000
TZNAME:UTC
DTSTART:20250101T000000
END:STANDARD
END:VTIMEZONE
BEGIN:VEVENT
DTSTART;VALUE=DATE:20260208
DTEND;VALUE=DATE:20260209
DTSTAMP:20260424T195446
CREATED:20260203T084839Z
LAST-MODIFIED:20260203T084839Z
UID:1158-1770508800-1770595199@oasidiecimare.it
SUMMARY:AperiCiArte: creatività\, gusto e convivialità all’Oasi Diecimare
DESCRIPTION:Un’esperienza che unisce arte\, gusto e convivialità\, pensata per chi desidera vivere un momento originale e rilassante immerso nella natura. \nAl Centro Visite Oasi Diecimare nasce AperiCiArte\, un aperitivo creativo unico nel suo genere\, dove colori\, emozioni e sapori si incontrano in un’atmosfera informale e ispirante. \n🥂 Cosa include l’esperienza\nDurante l’evento ogni partecipante potrà godere di: \n\n\n✨ aperitivo con stuzzichini \n\n\n🥂 bevande analcoliche e alcoliche \n\n\n🎨 una tela e colori acrilici personali \n\n\nGuidati dall’ispirazione del momento\, ognuno potrà dipingere la propria opera\, lasciandosi trasportare dai colori e dalle emozioni\, senza bisogno di esperienza artistica. \n🍽️ E dopo l’aperitivo?\nChi lo desidera potrà restare a cena\, scegliendo il menù del giorno proposto dal Centro Visite\, per prolungare la serata in compagnia. \n📅 Informazioni utili\n\n\nQuando: ogni venerdì e sabato \n\n\nOrario di inizio: ore 17:00 \n\n\nDove: Centro Visite Oasi Diecimare \n\n\n📞 Info e prenotazioni🌐 www.oasidiecimare.it \n📱 +39 380 659 9775 \n👉 Posti limitati\, prenotazione consigliata. \nLascia spazio alla creatività… al resto pensiamo noi 💫
URL:https://oasidiecimare.it/eventi-del-centro-visite/apericiarte-creativita-gusto-e-convivialita-alloasi-diecimare-2/
LOCATION:Centro Visite Parco Oasi Diecimare\, Località Breccelle - 84013 Cava de' Tirreni (SA)\, Cava de' Tirreni\, Salerno\, 84013\, Italy
CATEGORIES:Eventi del Centro Visite
ATTACH;FMTTYPE=image/jpeg:https://oasidiecimare.it/wp-content/uploads/2026/02/616398922_122119456647086878_8039724809823856261_n.jpg
END:VEVENT
BEGIN:VEVENT
DTSTART;VALUE=DATE:20260220
DTEND;VALUE=DATE:20260221
DTSTAMP:20260424T195446
CREATED:20260203T084944Z
LAST-MODIFIED:20260203T084944Z
UID:1161-1771545600-1771631999@oasidiecimare.it
SUMMARY:AperiCiArte: creatività\, gusto e convivialità all’Oasi Diecimare
DESCRIPTION:Un’esperienza che unisce arte\, gusto e convivialità\, pensata per chi desidera vivere un momento originale e rilassante immerso nella natura. \nAl Centro Visite Oasi Diecimare nasce AperiCiArte\, un aperitivo creativo unico nel suo genere\, dove colori\, emozioni e sapori si incontrano in un’atmosfera informale e ispirante. \n🥂 Cosa include l’esperienza\nDurante l’evento ogni partecipante potrà godere di: \n\n\n✨ aperitivo con stuzzichini \n\n\n🥂 bevande analcoliche e alcoliche \n\n\n🎨 una tela e colori acrilici personali \n\n\nGuidati dall’ispirazione del momento\, ognuno potrà dipingere la propria opera\, lasciandosi trasportare dai colori e dalle emozioni\, senza bisogno di esperienza artistica. \n🍽️ E dopo l’aperitivo?\nChi lo desidera potrà restare a cena\, scegliendo il menù del giorno proposto dal Centro Visite\, per prolungare la serata in compagnia. \n📅 Informazioni utili\n\n\nQuando: ogni venerdì e sabato \n\n\nOrario di inizio: ore 17:00 \n\n\nDove: Centro Visite Oasi Diecimare \n\n\n📞 Info e prenotazioni🌐 www.oasidiecimare.it \n📱 +39 380 659 9775 \n👉 Posti limitati\, prenotazione consigliata. \nLascia spazio alla creatività… al resto pensiamo noi 💫
URL:https://oasidiecimare.it/eventi-del-centro-visite/apericiarte-creativita-gusto-e-convivialita-alloasi-diecimare-3/
LOCATION:Centro Visite Parco Oasi Diecimare\, Località Breccelle - 84013 Cava de' Tirreni (SA)\, Cava de' Tirreni\, Salerno\, 84013\, Italy
CATEGORIES:Eventi del Centro Visite
ATTACH;FMTTYPE=image/jpeg:https://oasidiecimare.it/wp-content/uploads/2026/02/616398922_122119456647086878_8039724809823856261_n.jpg
END:VEVENT
BEGIN:VEVENT
DTSTART;TZID=UTC:20260221T150000
DTEND;TZID=UTC:20260221T170000
DTSTAMP:20260424T195446
CREATED:20260203T082020Z
LAST-MODIFIED:20260313T133741Z
UID:1154-1771686000-1771693200@oasidiecimare.it
SUMMARY:(EVENTO RIMANDATO)🌿 C’era una volta… in scena
DESCRIPTION:Appuntamento del 21 febbraio 2026\nSabato 21 febbraio 2026 torna al Centro Visite Oasi Diecimare l’appuntamento con “C’era una volta… in scena”\, il progetto di Oasi Diecimare in collaborazione con Casa Teatro\, dedicato al mondo delle fiabe\, delle letture animate e del gioco teatrale. \nUn pomeriggio pensato per bambini e famiglie\, dove le storie prendono vita attraverso la voce\, il movimento e l’immaginazione. Il racconto diventa gioco\, il teatro diventa esperienza condivisa\, in un percorso che stimola creatività\, ascolto e partecipazione attiva. \nL’incontro si svolgerà in un clima accogliente e immerso nella natura\, favorendo un approccio educativo e ludico al teatro e alla narrazione. \n📅 Informazioni utili\n\n\nData: 21 febbraio 2026 \n\n\nOrario: dalle 15:00 alle 17:00 \n\n\nLuogo: Centro Visite Oasi Diecimare \n\n\nUn’occasione per vivere la magia delle storie\, riscoprire il piacere dell’ascolto e condividere un’esperienza speciale all’interno del parco. \n📲 Info e prenotazioni🌐 www.oasidiecimare.it \nTEL: +39 380 659 9775
URL:https://oasidiecimare.it/eventi-del-centro-visite/%f0%9f%8c%bf-cera-una-volta-in-scena/
LOCATION:Centro Visite Parco Oasi Diecimare\, Località Breccelle - 84013 Cava de' Tirreni (SA)\, Cava de' Tirreni\, Salerno\, 84013\, Italy
CATEGORIES:Eventi del Centro Visite
ATTACH;FMTTYPE=image/jpeg:https://oasidiecimare.it/wp-content/uploads/2026/02/618845300_1466575668805022_2432076104257921229_n.jpg
END:VEVENT
BEGIN:VEVENT
DTSTART;VALUE=DATE:20260222
DTEND;VALUE=DATE:20260223
DTSTAMP:20260424T195446
CREATED:20260203T085018Z
LAST-MODIFIED:20260203T085018Z
UID:1163-1771718400-1771804799@oasidiecimare.it
SUMMARY:AperiCiArte: creatività\, gusto e convivialità all’Oasi Diecimare
DESCRIPTION:Un’esperienza che unisce arte\, gusto e convivialità\, pensata per chi desidera vivere un momento originale e rilassante immerso nella natura. \nAl Centro Visite Oasi Diecimare nasce AperiCiArte\, un aperitivo creativo unico nel suo genere\, dove colori\, emozioni e sapori si incontrano in un’atmosfera informale e ispirante. \n🥂 Cosa include l’esperienza\nDurante l’evento ogni partecipante potrà godere di: \n\n\n✨ aperitivo con stuzzichini \n\n\n🥂 bevande analcoliche e alcoliche \n\n\n🎨 una tela e colori acrilici personali \n\n\nGuidati dall’ispirazione del momento\, ognuno potrà dipingere la propria opera\, lasciandosi trasportare dai colori e dalle emozioni\, senza bisogno di esperienza artistica. \n🍽️ E dopo l’aperitivo?\nChi lo desidera potrà restare a cena\, scegliendo il menù del giorno proposto dal Centro Visite\, per prolungare la serata in compagnia. \n📅 Informazioni utili\n\n\nQuando: ogni venerdì e sabato \n\n\nOrario di inizio: ore 17:00 \n\n\nDove: Centro Visite Oasi Diecimare \n\n\n📞 Info e prenotazioni🌐 www.oasidiecimare.it \n📱 +39 380 659 9775 \n👉 Posti limitati\, prenotazione consigliata. \nLascia spazio alla creatività… al resto pensiamo noi 💫
URL:https://oasidiecimare.it/eventi-del-centro-visite/apericiarte-creativita-gusto-e-convivialita-alloasi-diecimare-4/
LOCATION:Centro Visite Parco Oasi Diecimare\, Località Breccelle - 84013 Cava de' Tirreni (SA)\, Cava de' Tirreni\, Salerno\, 84013\, Italy
CATEGORIES:Eventi del Centro Visite
ATTACH;FMTTYPE=image/jpeg:https://oasidiecimare.it/wp-content/uploads/2026/02/616398922_122119456647086878_8039724809823856261_n.jpg
END:VEVENT
BEGIN:VEVENT
DTSTART;TZID=UTC:20260327T210000
DTEND;TZID=UTC:20260327T220000
DTSTAMP:20260424T195446
CREATED:20260327T081220Z
LAST-MODIFIED:20260327T081220Z
UID:1178-1774645200-1774648800@oasidiecimare.it
SUMMARY:🌍⚽ Oltre il confine: una storia di calcio e pace all’Oasi Diecimare
DESCRIPTION:Un appuntamento speciale all’insegna della cultura\, dello sport e della riflessione ti aspetta presso il Centro Visite Oasi Diecimare. \nVenerdì 27 marzo si terrà la presentazione del libro “Oltre il confine: una storia di calcio e pace” dell’autore Raffaele Trito\, un racconto intenso e attuale in cui il calcio diventa molto più di uno sport: un linguaggio universale capace di unire persone\, storie e culture oltre ogni barriera. \n📚 Un racconto che unisce\nAttraverso la narrazione di Trito\, il calcio si trasforma in uno strumento di dialogo e comprensione\, capace di superare confini geografici e culturali. \n“Oltre il confine” è una storia che parla di: \n\nidentità\nconflitto e riconciliazione\namicizia e speranza\n\nUn libro che invita a riflettere su temi profondi\, utilizzando lo sport come metafora della vita e delle relazioni umane. \n🎤 Dialogo con l’autore\nDurante la serata\, l’autore dialogherà con ospiti d’eccezione: \n\nGiuseppe Foscari – Docente di Storia Contemporanea\nTony Brewer – Professore di Storia e Filosofia\nGiovanni Salomone – Direttore Editoriale Garrincha Edizioni\n\nUn momento di confronto e approfondimento che arricchirà l’esperienza\, offrendo diversi punti di vista sul tema del libro. \n🌿 Cultura immersa nella natura\nLa presentazione si svolgerà nell’atmosfera suggestiva dell’Oasi Diecimare\, un luogo ideale per eventi culturali immersi nel verde. \nUn’occasione unica per vivere: \n\nun evento culturale di qualità\nun momento di condivisione\nun’esperienza a contatto con la natura\n\n🍽️ A seguire: cena conviviale\nAl termine dell’incontro\, per chi lo desidera\, sarà possibile partecipare a una cena frugale a base di prodotti tipici. \nUn momento conviviale per continuare la serata in un clima informale e accogliente. \n👉 Prenotazione consigliata \n📍 Informazioni utili\n📅 Data: Venerdì 27 marzo🕖 Orario: ore 19:00📍 Luogo: Centro Visite Oasi Diecimare \n🎟️ Ingresso: gratuito \n📞 Info e prenotazioni cena: \n\nCarmela: 380 659 9775\nDaniele: 320 963 1281
URL:https://oasidiecimare.it/eventi-del-centro-visite/%f0%9f%8c%8d%e2%9a%bd-oltre-il-confine-una-storia-di-calcio-e-pace-alloasi-diecimare/
LOCATION:Centro Visite Parco Oasi Diecimare\, Località Breccelle - 84013 Cava de' Tirreni (SA)\, Cava de' Tirreni\, Salerno\, 84013\, Italy
CATEGORIES:Eventi del Centro Visite
ATTACH;FMTTYPE=image/jpeg:https://oasidiecimare.it/wp-content/uploads/2026/03/Oltre-il-confine_.jpg
END:VEVENT
BEGIN:VEVENT
DTSTART;VALUE=DATE:20260405
DTEND;VALUE=DATE:20260407
DTSTAMP:20260424T195446
CREATED:20260327T080400Z
LAST-MODIFIED:20260327T080400Z
UID:1175-1775347200-1775519999@oasidiecimare.it
SUMMARY:Pasqua e Pasquetta 2026 al Centro Visite Oasi Diecimare
DESCRIPTION:Trascorri Pasqua e Pasquetta 2026 in un luogo speciale\, immerso nella natura del Parco Oasi Diecimare\, tra paesaggi suggestivi\, atmosfera rilassante e il piacere della buona tavola. L’iniziativa è promossa dal Centro Visite Oasi Diecimare\, punto di riferimento per vivere il parco e le sue esperienze. \nSarà l’occasione perfetta per concedersi una giornata all’aria aperta\, scoprire il fascino del parco e condividere con famiglia e amici un momento di convivialità in un contesto naturale unico. Il Centro Visite Parco Oasi Diecimare si trova in Località Breccelle\, 84013 Cava de’ Tirreni (SA). \nPer l’occasione\, il Centro Visite propone due giornate speciali dedicate al relax\, alla scoperta del territorio e a un pranzo pensato per celebrare le festività in un ambiente accogliente e immerso nel verde. I contenuti pubblici associati all’evento parlano infatti di “due giornate speciali all’insegna del buon cibo e della convivialità”. \nPartecipare a Pasqua e Pasquetta all’Oasi Diecimare significa scegliere un’esperienza diversa dal solito: una giornata da vivere lentamente\, tra natura\, sapori e momenti da condividere\, in uno dei luoghi più affascinanti del territorio cavese. L’Oasi comunica inoltre un contatto dedicato per informazioni e prenotazioni tramite telefono e Instagram ufficiale. \nInformazioni utili\nLocation: Centro Visite Parco Oasi Diecimare\, Località Breccelle\, Cava de’ Tirreni (SA) Info e prenotazioni: +39 380 659 9775
URL:https://oasidiecimare.it/eventi-del-centro-visite/pasqua-e-pasquetta-2026-al-centro-visite-oasi-diecimare/
LOCATION:Centro Visite Parco Oasi Diecimare\, Località Breccelle - 84013 Cava de' Tirreni (SA)\, Cava de' Tirreni\, Salerno\, 84013\, Italy
CATEGORIES:Eventi del Centro Visite
ATTACH;FMTTYPE=image/jpeg:https://oasidiecimare.it/wp-content/uploads/2026/03/pasqua_pasquetta_2026.jpg
END:VEVENT
BEGIN:VEVENT
DTSTART;TZID=UTC:20260419T093000
DTEND;TZID=UTC:20260419T170000
DTSTAMP:20260424T195446
CREATED:20260414T061910Z
LAST-MODIFIED:20260414T061910Z
UID:1264-1776591000-1776618000@oasidiecimare.it
SUMMARY:Dante & Beatrice al Parco Diecimare: cultura\, teatro e natura il 19 aprile 2026 a Cava de’ Tirreni
DESCRIPTION:Il fascino della letteratura e teatro incontra la bellezza del paesaggio naturale con “Dante & Beatrice al Parco Diecimare”\, l’evento in programma domenica 19 aprile 2026 alle ore 9:30 presso il Parco Diecimare di Cava de’ Tirreni. \nUna mattinata speciale pensata per vivere il territorio in modo originale\, tra camminate nella natura\, momenti teatrali\, approfondimenti culturali e occasioni di condivisione all’interno di uno dei luoghi verdi più suggestivi del territorio cavese. \nUn viaggio tra poesia e paesaggio\nL’iniziativa propone un incontro ideale tra il mondo di Dante Alighieri e Beatrice e il contesto naturalistico del Parco Diecimare\, offrendo ai partecipanti un’esperienza immersiva dove storia\, arte e ambiente si fondono in un percorso coinvolgente. \nIl programma prevede momenti di racconto e interventi dedicati alla cultura locale\, accompagnati da suggestioni teatrali capaci di rendere ancora più intensa l’atmosfera del parco. \nGli ospiti dell’evento\nDurante la giornata interverranno: \n\nCarmela Lamberti – Legale Rappresentante del soggetto gestore del Parco\nAniello Ragone – Cultore di storia locale\nGeltrude Barba – Associazione Fuori Tempo – Teatro Luca Barba\n\nSaranno inoltre presenti momenti teatrali curati da: \n\nMario Durante\nCristina Vitale\nAgnese Pisapia\n\nServizi e informazioni utili\nPer consentire la partecipazione di tutti\, è previsto un servizio navetta per il Centro Visite dedicato a chi non potesse raggiungere autonomamente la struttura. \nSono inoltre previste: \n\nvisite a piedi\nmomenti conviviali\npossibilità di aperitivo o pranzo su prenotazione al numero indicato in locandina\n\nIl valore del Parco Diecimare\nManifestazioni come questa confermano il ruolo del Centro Visite Oasi Diecimare come luogo vivo e dinamico\, capace di ospitare eventi culturali\, attività educative e iniziative che valorizzano il patrimonio ambientale di Cava de’ Tirreni. \nIl Parco Diecimare si conferma così non solo meta per escursionisti e amanti della natura\, ma anche spazio d’incontro tra comunità\, cultura e territorio. \nCome partecipare\nL’appuntamento è quindi per: \n📍 Parco Diecimare – Cava de’ Tirreni📅 Domenica 19 aprile 2026🕤 Ore 9:30 \nUn’occasione unica per lasciarsi guidare tra natura\, poesia e bellezza\, vivendo il parco in una veste nuova e coinvolgente.
URL:https://oasidiecimare.it/eventi-del-centro-visite/dante-beatrice-al-parco-diecimare-cultura-teatro-e-natura-il-19-aprile-2026-a-cava-de-tirreni/
LOCATION:Centro Visite Parco Oasi Diecimare\, Località Breccelle - 84013 Cava de' Tirreni (SA)\, Cava de' Tirreni\, Salerno\, 84013\, Italy
CATEGORIES:Eventi del Centro Visite
ATTACH;FMTTYPE=image/jpeg:https://oasidiecimare.it/wp-content/uploads/2026/04/669621283_122130679743086878_4449762950068197524_n.jpg
END:VEVENT
END:VCALENDAR