BEGIN:VCALENDAR
VERSION:2.0
PRODID:-//Parco Oasi Diecimare - ECPv6.15.20//NONSGML v1.0//EN
CALSCALE:GREGORIAN
METHOD:PUBLISH
X-WR-CALNAME:Parco Oasi Diecimare
X-ORIGINAL-URL:https://oasidiecimare.it
X-WR-CALDESC:Eventi per Parco Oasi Diecimare
REFRESH-INTERVAL;VALUE=DURATION:PT1H
X-Robots-Tag:noindex
X-PUBLISHED-TTL:PT1H
BEGIN:VTIMEZONE
TZID:UTC
BEGIN:STANDARD
TZOFFSETFROM:+0000
TZOFFSETTO:+0000
TZNAME:UTC
DTSTART:20250101T000000
END:STANDARD
END:VTIMEZONE
BEGIN:VEVENT
DTSTART;VALUE=DATE:20260117
DTEND;VALUE=DATE:20260118
DTSTAMP:20260424T195833
CREATED:20260107T192004Z
LAST-MODIFIED:20260107T192004Z
UID:1127-1768608000-1768694399@oasidiecimare.it
SUMMARY:Sant’Antuono – rievocando la tradizione
DESCRIPTION:Un ritorno alle radici più autentiche\, tra fuoco\, musica e memoria collettiva.Venerdì 17 gennaio\, l’Oasi Diecimare si trasforma in un luogo di incontro e condivisione per celebrare Sant’Antuono\, figura simbolo dei riti invernali e della cultura popolare. \n🌿 Immersi nella natura\, rivivremo antiche tradizioni che parlano di protezione\, rinascita e comunità\, riscaldati dal fuoco e dall’energia dello stare insieme. \n✨ La serata sarà animata da:🔥 accensione dei fuochi purificatori💃 balli e musica folkloristica🍞 degustazione di prodotti della tradizione \nUn momento carico di significato\, dove il calore del fuoco si intreccia con quello umano\, per custodire e tramandare il valore delle nostre radici culturali. \n📅 Venerdì 17 gennaio📍 Oasi Diecimare📞 Info & prenotazioni: 380 659 9775🌐 www.oasidiecimare.it
URL:https://oasidiecimare.it/eventi-del-centro-visite/santantuono-rievocando-la-tradizione/
LOCATION:Centro Visite Parco Oasi Diecimare\, Località Breccelle - 84013 Cava de' Tirreni (SA)\, Cava de' Tirreni\, Salerno\, 84013\, Italy
CATEGORIES:Eventi del Centro Visite
ATTACH;FMTTYPE=image/jpeg:https://oasidiecimare.it/wp-content/uploads/2026/01/santantuono_17_01_2026.jpg
END:VEVENT
END:VCALENDAR